Workbook

Sheet SUMMARY
B7: The Hotel
B8: OPENING DATE: | D8: 43997
B10: DEPARTMENT | F10: EMPLOYEES | G10: PAYROLL COST | H10: OTHER EXP. | I10: TOTAL COST
B11: =Manning!C24 -> TOTAL EXECUTIVE OFFICE | F11: =Manning!H24 -> 6 | G11: =SUM('Salary Summary'!X18:AJ18) -> 1047960 | H11: ='Pre-Opening_Expenses_SUMMARY'!R6 -> 263950 | I11: =H11+G11 -> 1311910
B12: =Manning!C160 -> TOTAL ROOMS DIVISION | F12: =Manning!H160 -> 144 | G12: =SUM('Salary Summary'!X155:AJ155) -> 1440235 | H12: ='Pre-Opening_Expenses_SUMMARY'!R11 -> 458050 | I12: =H12+G12 -> 1898285
B13: =Manning!C448 -> TOTAL FOOD & BEVERAGE DIVISION | F13: =Manning!H448 -> 180 | G13: =SUM('Salary Summary'!X443:AJ443) -> 2467250 | H13: ='Pre-Opening_Expenses_SUMMARY'!R16 -> 1419750 | I13: =H13+G13 -> 3887000
B14: =Manning!C515 -> TOTAL FINANCE DIVISION | F14: =Manning!H515 -> 44 | G14: =SUM('Salary Summary'!X510:AJ510) -> 1099790 | H14: ='Pre-Opening_Expenses_SUMMARY'!R21 -> 252256 | I14: =H14+G14 -> 1352046
B15: =Manning!C573 -> TOTAL SALES AND MARKETING DIVISION | F15: =Manning!H573 -> 17 | G15: =SUM('Salary Summary'!X567:AJ567) -> 716390 | H15: =SUM('Pre-Opening_Expenses_SUMMARY'!R26:R28) -> 3511150 | I15: =H15+G15 -> 4227540
B16: =Manning!C601 -> TOTAL POMEC DIVISION | F16: =Manning!H601 -> 13 | G16: =SUM('Salary Summary'!X595:AJ595) -> 296070 | H16: ='Pre-Opening_Expenses_SUMMARY'!R34 -> 135525 | I16: =H16+G16 -> 431595
B17: =Manning!C628 -> TOTAL HUMAN RESOURCES DIVISION | F17: =Manning!H628 -> 21 | G17: =SUM('Salary Summary'!X622:AJ622) -> 488125 | H17: ='Pre-Opening_Expenses_SUMMARY'!R39 -> 864875 | I17: =H17+G17 -> 1353000
B18: OVERALL | F18: =Manning!H629 -> 425 | G18: =SUM('Salary Summary'!X623:AJ623) -> 7555820 | H18: ='Pre-Opening_Expenses_SUMMARY'!R43 -> 6905556 | I18: =H18+G18 -> 14461376

Sheet Pre-Opening_Expenses_SUMMARY
A1: ="PRE-OPENING BUDGET (SUMMARY) "&SUMMARY!B7 -> PRE-OPENING BUDGET (SUMMARY) The Hotel | N1: Opening Date: | O1: =Manning!R1 -> 43997
A3: ='Pre-Opening_Expenses_DEPARTMENT'!D8 -> ITEM | E3: ='Pre-Opening_Expenses_DEPARTMENT'!E8 -> 43631 | F3: ='Pre-Opening_Expenses_DEPARTMENT'!F8 -> 43661 | G3: ='Pre-Opening_Expenses_DEPARTMENT'!G8 -> 43692 | H3: ='Pre-Opening_Expenses_DEPARTMENT'!H8 -> 43723 | I3: ='Pre-Opening_Expenses_DEPARTMENT'!I8 -> 43753 | J3: ='Pre-Opening_Expenses_DEPARTMENT'!J8 -> 43784 | K3: ='Pre-Opening_Expenses_DEPARTMENT'!K8 -> 43814 | L3: ='Pre-Opening_Expenses_DEPARTMENT'!L8 -> 43845 | ... R3: ='Pre-Opening_Expenses_DEPARTMENT'!R8 -> TOTAL
A4: ='Pre-Opening_Expenses_DEPARTMENT'!B9 -> ADMINISTRATIVE & GENERAL
B5: ='Pre-Opening_Expenses_DEPARTMENT'!D14 -> TOTAL EXECUTIVE OFFICE PAYROLL | E5: ='Pre-Opening_Expenses_DEPARTMENT'!E14 -> 0 | F5: ='Pre-Opening_Expenses_DEPARTMENT'!F14 -> 0 | G5: ='Pre-Opening_Expenses_DEPARTMENT'!G14 -> 0 | H5: ='Pre-Opening_Expenses_DEPARTMENT'!H14 -> 0 | I5: ='Pre-Opening_Expenses_DEPARTMENT'!I14 -> 0 | J5: ='Pre-Opening_Expenses_DEPARTMENT'!J14 -> 0 | K5: ='Pre-Opening_Expenses_DEPARTMENT'!K14 -> 0 | L5: ='Pre-Opening_Expenses_DEPARTMENT'!L14 -> 82360 | ... R5: ='Pre-Opening_Expenses_DEPARTMENT'!R14 -> 1047960
B6: ='Pre-Opening_Expenses_DEPARTMENT'!D37 -> TOTAL NON-PAYROLL | E6: ='Pre-Opening_Expenses_DEPARTMENT'!E37 -> 0 | F6: ='Pre-Opening_Expenses_DEPARTMENT'!F37 -> 0 | G6: ='Pre-Opening_Expenses_DEPARTMENT'!G37 -> 0 | H6: ='Pre-Opening_Expenses_DEPARTMENT'!H37 -> 0 | I6: ='Pre-Opening_Expenses_DEPARTMENT'!I37 -> 0 | J6: ='Pre-Opening_Expenses_DEPARTMENT'!J37 -> 0 | K6: ='Pre-Opening_Expenses_DEPARTMENT'!K37 -> 0 | L6: ='Pre-Opening_Expenses_DEPARTMENT'!L37 -> 30500 | ... R6: ='Pre-Opening_Expenses_DEPARTMENT'!R37 -> 263950
A7: ='Pre-Opening_Expenses_DEPARTMENT'!B38 -> TOTAL ADMINISTRATIVE & GENERAL | E7: ='Pre-Opening_Expenses_DEPARTMENT'!E38 -> 0 | F7: ='Pre-Opening_Expenses_DEPARTMENT'!F38 -> 0 | G7: ='Pre-Opening_Expenses_DEPARTMENT'!G38 -> 0 | H7: ='Pre-Opening_Expenses_DEPARTMENT'!H38 -> 0 | I7: ='Pre-Opening_Expenses_DEPARTMENT'!I38 -> 0 | J7: ='Pre-Opening_Expenses_DEPARTMENT'!J38 -> 0 | K7: ='Pre-Opening_Expenses_DEPARTMENT'!K38 -> 0 | L7: ='Pre-Opening_Expenses_DEPARTMENT'!L38 -> 112860 | ... R7: ='Pre-Opening_Expenses_DEPARTMENT'!R38 -> 1311910
A9: ='Pre-Opening_Expenses_DEPARTMENT'!B40 -> ROOMS DIVISION
B10: ='Pre-Opening_Expenses_DEPARTMENT'!D49 -> TOTAL ROOMS DIVISION PAYROLL | E10: ='Pre-Opening_Expenses_DEPARTMENT'!E49 -> 0 | F10: ='Pre-Opening_Expenses_DEPARTMENT'!F49 -> 0 | G10: ='Pre-Opening_Expenses_DEPARTMENT'!G49 -> 0 | H10: ='Pre-Opening_Expenses_DEPARTMENT'!H49 -> 0 | I10: ='Pre-Opening_Expenses_DEPARTMENT'!I49 -> 0 | J10: ='Pre-Opening_Expenses_DEPARTMENT'!J49 -> 0 | K10: ='Pre-Opening_Expenses_DEPARTMENT'!K49 -> 0 | L10: ='Pre-Opening_Expenses_DEPARTMENT'!L49 -> 2485 | ... R10: ='Pre-Opening_Expenses_DEPARTMENT'!R49 -> 1440235
B11: ='Pre-Opening_Expenses_DEPARTMENT'!D74 -> TOTAL NON-PAYROLL | E11: ='Pre-Opening_Expenses_DEPARTMENT'!E74 -> 0 | F11: ='Pre-Opening_Expenses_DEPARTMENT'!F74 -> 0 | G11: ='Pre-Opening_Expenses_DEPARTMENT'!G74 -> 0 | H11: ='Pre-Opening_Expenses_DEPARTMENT'!H74 -> 0 | I11: ='Pre-Opening_Expenses_DEPARTMENT'!I74 -> 0 | J11: ='Pre-Opening_Expenses_DEPARTMENT'!J74 -> 0 | K11: ='Pre-Opening_Expenses_DEPARTMENT'!K74 -> 0 | L11: ='Pre-Opening_Expenses_DEPARTMENT'!L74 -> 0 | ... R11: ='Pre-Opening_Expenses_DEPARTMENT'!R74 -> 458050
A12: ='Pre-Opening_Expenses_DEPARTMENT'!B75 -> TOTAL ROOMS DIVISION | E12: ='Pre-Opening_Expenses_DEPARTMENT'!E75 -> 0 | F12: ='Pre-Opening_Expenses_DEPARTMENT'!F75 -> 0 | G12: ='Pre-Opening_Expenses_DEPARTMENT'!G75 -> 0 | H12: ='Pre-Opening_Expenses_DEPARTMENT'!H75 -> 0 | I12: ='Pre-Opening_Expenses_DEPARTMENT'!I75 -> 0 | J12: ='Pre-Opening_Expenses_DEPARTMENT'!J75 -> 0 | K12: ='Pre-Opening_Expenses_DEPARTMENT'!K75 -> 0 | L12: ='Pre-Opening_Expenses_DEPARTMENT'!L75 -> 2485 | ... R12: ='Pre-Opening_Expenses_DEPARTMENT'!R75 -> 1898285
A14: ='Pre-Opening_Expenses_DEPARTMENT'!B77 -> FOOD & BEVERAGE DIVISION
B15: ='Pre-Opening_Expenses_DEPARTMENT'!D85 -> TOTAL FOOD & BEVERAGE DIVISION PAYROLL | E15: ='Pre-Opening_Expenses_DEPARTMENT'!E85 -> 0 | F15: ='Pre-Opening_Expenses_DEPARTMENT'!F85 -> 0 | G15: ='Pre-Opening_Expenses_DEPARTMENT'!G85 -> 0 | H15: ='Pre-Opening_Expenses_DEPARTMENT'!H85 -> 0 | I15: ='Pre-Opening_Expenses_DEPARTMENT'!I85 -> 0 | J15: ='Pre-Opening_Expenses_DEPARTMENT'!J85 -> 0 | K15: ='Pre-Opening_Expenses_DEPARTMENT'!K85 -> 0 | L15: ='Pre-Opening_Expenses_DEPARTMENT'!L85 -> 0 | ... R15: ='Pre-Opening_Expenses_DEPARTMENT'!R85 -> 2467250
B16: ='Pre-Opening_Expenses_DEPARTMENT'!D112 -> TOTAL NON-PAYROLL | E16: ='Pre-Opening_Expenses_DEPARTMENT'!E112 -> 0 | F16: ='Pre-Opening_Expenses_DEPARTMENT'!F112 -> 0 | G16: ='Pre-Opening_Expenses_DEPARTMENT'!G112 -> 0 | H16: ='Pre-Opening_Expenses_DEPARTMENT'!H112 -> 0 | I16: ='Pre-Opening_Expenses_DEPARTMENT'!I112 -> 0 | J16: ='Pre-Opening_Expenses_DEPARTMENT'!J112 -> 0 | K16: ='Pre-Opening_Expenses_DEPARTMENT'!K112 -> 0 | L16: ='Pre-Opening_Expenses_DEPARTMENT'!L112 -> 0 | ... R16: ='Pre-Opening_Expenses_DEPARTMENT'!R112 -> 1419750
A17: ='Pre-Opening_Expenses_DEPARTMENT'!B113 -> TOTAL FOOD & BEVERAGE DIVISION | E17: ='Pre-Opening_Expenses_DEPARTMENT'!E113 -> 0 | F17: ='Pre-Opening_Expenses_DEPARTMENT'!F113 -> 0 | G17: ='Pre-Opening_Expenses_DEPARTMENT'!G113 -> 0 | H17: ='Pre-Opening_Expenses_DEPARTMENT'!H113 -> 0 | I17: ='Pre-Opening_Expenses_DEPARTMENT'!I113 -> 0 | J17: ='Pre-Opening_Expenses_DEPARTMENT'!J113 -> 0 | K17: ='Pre-Opening_Expenses_DEPARTMENT'!K113 -> 0 | L17: ='Pre-Opening_Expenses_DEPARTMENT'!L113 -> 0 | ... R17: ='Pre-Opening_Expenses_DEPARTMENT'!R113 -> 3887000
A19: ='Pre-Opening_Expenses_DEPARTMENT'!B115 -> FINANCE DIVISION
B20: ='Pre-Opening_Expenses_DEPARTMENT'!D123 -> TOTAL FINANCE DIVISION PAYROLL | E20: ='Pre-Opening_Expenses_DEPARTMENT'!E123 -> 0 | F20: ='Pre-Opening_Expenses_DEPARTMENT'!F123 -> 0 | G20: ='Pre-Opening_Expenses_DEPARTMENT'!G123 -> 0 | H20: ='Pre-Opening_Expenses_DEPARTMENT'!H123 -> 0 | I20: ='Pre-Opening_Expenses_DEPARTMENT'!I123 -> 0 | J20: ='Pre-Opening_Expenses_DEPARTMENT'!J123 -> 0 | K20: ='Pre-Opening_Expenses_DEPARTMENT'!K123 -> 10650 | L20: ='Pre-Opening_Expenses_DEPARTMENT'!L123 -> 46150 | ... R20: ='Pre-Opening_Expenses_DEPARTMENT'!R123 -> 1099790
B21: ='Pre-Opening_Expenses_DEPARTMENT'!D167 -> TOTAL NON-PAYROLL | E21: ='Pre-Opening_Expenses_DEPARTMENT'!E167 -> 0 | F21: ='Pre-Opening_Expenses_DEPARTMENT'!F167 -> 0 | G21: ='Pre-Opening_Expenses_DEPARTMENT'!G167 -> 0 | H21: ='Pre-Opening_Expenses_DEPARTMENT'!H167 -> 0 | I21: ='Pre-Opening_Expenses_DEPARTMENT'!I167 -> 0 | J21: ='Pre-Opening_Expenses_DEPARTMENT'!J167 -> 0 | K21: ='Pre-Opening_Expenses_DEPARTMENT'!K167 -> 0 | L21: ='Pre-Opening_Expenses_DEPARTMENT'!L167 -> 17006 | ... R21: ='Pre-Opening_Expenses_DEPARTMENT'!R167 -> 252256
A22: ='Pre-Opening_Expenses_DEPARTMENT'!B168 -> TOTAL FINANCE DIVISION | E22: ='Pre-Opening_Expenses_DEPARTMENT'!E168 -> 0 | F22: ='Pre-Opening_Expenses_DEPARTMENT'!F168 -> 0 | G22: ='Pre-Opening_Expenses_DEPARTMENT'!G168 -> 0 | H22: ='Pre-Opening_Expenses_DEPARTMENT'!H168 -> 0 | I22: ='Pre-Opening_Expenses_DEPARTMENT'!I168 -> 0 | J22: ='Pre-Opening_Expenses_DEPARTMENT'!J168 -> 0 | K22: ='Pre-Opening_Expenses_DEPARTMENT'!K168 -> 10650 | L22: ='Pre-Opening_Expenses_DEPARTMENT'!L168 -> 63156 | ... R22: ='Pre-Opening_Expenses_DEPARTMENT'!R168 -> 1352046
A24: ='Pre-Opening_Expenses_DEPARTMENT'!B170 -> SALES AND MARKETING DIVISION
B25: ='Pre-Opening_Expenses_DEPARTMENT'!D178 -> TOTAL SALES AND MARKETING DIVISION PAYROLL | E25: ='Pre-Opening_Expenses_DEPARTMENT'!E178 -> 0 | F25: ='Pre-Opening_Expenses_DEPARTMENT'!F178 -> 0 | G25: ='Pre-Opening_Expenses_DEPARTMENT'!G178 -> 0 | H25: ='Pre-Opening_Expenses_DEPARTMENT'!H178 -> 0 | I25: ='Pre-Opening_Expenses_DEPARTMENT'!I178 -> 0 | J25: ='Pre-Opening_Expenses_DEPARTMENT'!J178 -> 0 | K25: ='Pre-Opening_Expenses_DEPARTMENT'!K178 -> 0 | L25: ='Pre-Opening_Expenses_DEPARTMENT'!L178 -> 0 | ... R25: ='Pre-Opening_Expenses_DEPARTMENT'!R178 -> 716390
C26: ='Pre-Opening_Expenses_DEPARTMENT'!D201 -> TOTAL SALES GENERAL EXPENSES | E26: ='Pre-Opening_Expenses_DEPARTMENT'!E201 -> 0 | F26: ='Pre-Opening_Expenses_DEPARTMENT'!F201 -> 0 | G26: ='Pre-Opening_Expenses_DEPARTMENT'!G201 -> 0 | H26: ='Pre-Opening_Expenses_DEPARTMENT'!H201 -> 0 | I26: ='Pre-Opening_Expenses_DEPARTMENT'!I201 -> 0 | J26: ='Pre-Opening_Expenses_DEPARTMENT'!J201 -> 0 | K26: ='Pre-Opening_Expenses_DEPARTMENT'!K201 -> 0 | L26: ='Pre-Opening_Expenses_DEPARTMENT'!L201 -> 0 | ... R26: ='Pre-Opening_Expenses_DEPARTMENT'!R201 -> 910500
C27: ='Pre-Opening_Expenses_DEPARTMENT'!D216 -> TOTAL PUBLIC RELATIONS GENERAL EXPENSES | E27: ='Pre-Opening_Expenses_DEPARTMENT'!E216 -> 0 | F27: ='Pre-Opening_Expenses_DEPARTMENT'!F216 -> 0 | G27: ='Pre-Opening_Expenses_DEPARTMENT'!G216 -> 0 | H27: ='Pre-Opening_Expenses_DEPARTMENT'!H216 -> 0 | I27: ='Pre-Opening_Expenses_DEPARTMENT'!I216 -> 0 | J27: ='Pre-Opening_Expenses_DEPARTMENT'!J216 -> 0 | K27: ='Pre-Opening_Expenses_DEPARTMENT'!K216 -> 0 | L27: ='Pre-Opening_Expenses_DEPARTMENT'!L216 -> 4500 | ... R27: ='Pre-Opening_Expenses_DEPARTMENT'!R216 -> 249500
C28: ='Pre-Opening_Expenses_DEPARTMENT'!C300 -> TOTAL MARKETING EXPENSES | E28: ='Pre-Opening_Expenses_DEPARTMENT'!E300 -> 0 | F28: ='Pre-Opening_Expenses_DEPARTMENT'!F300 -> 0 | G28: ='Pre-Opening_Expenses_DEPARTMENT'!G300 -> 0 | H28: ='Pre-Opening_Expenses_DEPARTMENT'!H300 -> 0 | I28: ='Pre-Opening_Expenses_DEPARTMENT'!I300 -> 0 | J28: ='Pre-Opening_Expenses_DEPARTMENT'!J300 -> 0 | K28: ='Pre-Opening_Expenses_DEPARTMENT'!K300 -> 0 | L28: ='Pre-Opening_Expenses_DEPARTMENT'!L300 -> 0 | ... R28: ='Pre-Opening_Expenses_DEPARTMENT'!R300 -> 2351150
B29: ='Pre-Opening_Expenses_DEPARTMENT'!D301 -> TOTAL NON-PAYROLL | E29: ='Pre-Opening_Expenses_DEPARTMENT'!E301 -> 0 | F29: ='Pre-Opening_Expenses_DEPARTMENT'!F301 -> 0 | G29: ='Pre-Opening_Expenses_DEPARTMENT'!G301 -> 0 | H29: ='Pre-Opening_Expenses_DEPARTMENT'!H301 -> 0 | I29: ='Pre-Opening_Expenses_DEPARTMENT'!I301 -> 0 | J29: ='Pre-Opening_Expenses_DEPARTMENT'!J301 -> 0 | K29: ='Pre-Opening_Expenses_DEPARTMENT'!K301 -> 0 | L29: ='Pre-Opening_Expenses_DEPARTMENT'!L301 -> 4500 | ... R29: ='Pre-Opening_Expenses_DEPARTMENT'!R301 -> 3511150
A30: ='Pre-Opening_Expenses_DEPARTMENT'!B302 -> TOTAL SALES AND MARKETING DIVISION | E30: ='Pre-Opening_Expenses_DEPARTMENT'!E302 -> 0 | F30: ='Pre-Opening_Expenses_DEPARTMENT'!F302 -> 0 | G30: ='Pre-Opening_Expenses_DEPARTMENT'!G302 -> 0 | H30: ='Pre-Opening_Expenses_DEPARTMENT'!H302 -> 0 | I30: ='Pre-Opening_Expenses_DEPARTMENT'!I302 -> 0 | J30: ='Pre-Opening_Expenses_DEPARTMENT'!J302 -> 0 | K30: ='Pre-Opening_Expenses_DEPARTMENT'!K302 -> 0 | L30: ='Pre-Opening_Expenses_DEPARTMENT'!L302 -> 4500 | ... R30: ='Pre-Opening_Expenses_DEPARTMENT'!R302 -> 4227540
A32: ='Pre-Opening_Expenses_DEPARTMENT'!B304 -> POMEC DIVISION
B33: ='Pre-Opening_Expenses_DEPARTMENT'!D309 -> TOTAL POMEC DIVISION PAYROLL | E33: ='Pre-Opening_Expenses_DEPARTMENT'!E309 -> 0 | F33: ='Pre-Opening_Expenses_DEPARTMENT'!F309 -> 0 | G33: ='Pre-Opening_Expenses_DEPARTMENT'!G309 -> 0 | H33: ='Pre-Opening_Expenses_DEPARTMENT'!H309 -> 0 | I33: ='Pre-Opening_Expenses_DEPARTMENT'!I309 -> 0 | J33: ='Pre-Opening_Expenses_DEPARTMENT'!J309 -> 0 | K33: ='Pre-Opening_Expenses_DEPARTMENT'!K309 -> 0 | L33: ='Pre-Opening_Expenses_DEPARTMENT'!L309 -> 0 | ... R33: ='Pre-Opening_Expenses_DEPARTMENT'!R309 -> 296070
B34: ='Pre-Opening_Expenses_DEPARTMENT'!D334 -> TOTAL NON-PAYROLL | E34: ='Pre-Opening_Expenses_DEPARTMENT'!E334 -> 0 | F34: ='Pre-Opening_Expenses_DEPARTMENT'!F334 -> 0 | G34: ='Pre-Opening_Expenses_DEPARTMENT'!G334 -> 0 | H34: ='Pre-Opening_Expenses_DEPARTMENT'!H334 -> 0 | I34: ='Pre-Opening_Expenses_DEPARTMENT'!I334 -> 0 | J34: ='Pre-Opening_Expenses_DEPARTMENT'!J334 -> 0 | K34: ='Pre-Opening_Expenses_DEPARTMENT'!K334 -> 0 | L34: ='Pre-Opening_Expenses_DEPARTMENT'!L334 -> 0 | ... R34: ='Pre-Opening_Expenses_DEPARTMENT'!R334 -> 135525
A35: ='Pre-Opening_Expenses_DEPARTMENT'!B335 -> TOTAL POMEC DIVISION | E35: ='Pre-Opening_Expenses_DEPARTMENT'!E335 -> 0 | F35: ='Pre-Opening_Expenses_DEPARTMENT'!F335 -> 0 | G35: ='Pre-Opening_Expenses_DEPARTMENT'!G335 -> 0 | H35: ='Pre-Opening_Expenses_DEPARTMENT'!H335 -> 0 | I35: ='Pre-Opening_Expenses_DEPARTMENT'!I335 -> 0 | J35: ='Pre-Opening_Expenses_DEPARTMENT'!J335 -> 0 | K35: ='Pre-Opening_Expenses_DEPARTMENT'!K335 -> 0 | L35: ='Pre-Opening_Expenses_DEPARTMENT'!L335 -> 0 | ... R35: ='Pre-Opening_Expenses_DEPARTMENT'!R335 -> 431595
A37: ='Pre-Opening_Expenses_DEPARTMENT'!B337 -> HUMAN RESOURCES DIVISION
B38: ='Pre-Opening_Expenses_DEPARTMENT'!D342 -> TOTAL HUMAN RESOURCES DIVISION PAYROLL | E38: ='Pre-Opening_Expenses_DEPARTMENT'!E342 -> 0 | F38: ='Pre-Opening_Expenses_DEPARTMENT'!F342 -> 0 | G38: ='Pre-Opening_Expenses_DEPARTMENT'!G342 -> 0 | H38: ='Pre-Opening_Expenses_DEPARTMENT'!H342 -> 0 | I38: ='Pre-Opening_Expenses_DEPARTMENT'!I342 -> 0 | J38: ='Pre-Opening_Expenses_DEPARTMENT'!J342 -> 0 | K38: ='Pre-Opening_Expenses_DEPARTMENT'!K342 -> 24140 | L38: ='Pre-Opening_Expenses_DEPARTMENT'!L342 -> 27335 | ... R38: ='Pre-Opening_Expenses_DEPARTMENT'!R342 -> 488125
B39: ='Pre-Opening_Expenses_DEPARTMENT'!D407 -> TOTAL NON-PAYROLL | E39: ='Pre-Opening_Expenses_DEPARTMENT'!E407 -> 0 | F39: ='Pre-Opening_Expenses_DEPARTMENT'!F407 -> 0 | G39: ='Pre-Opening_Expenses_DEPARTMENT'!G407 -> 0 | H39: ='Pre-Opening_Expenses_DEPARTMENT'!H407 -> 0 | I39: ='Pre-Opening_Expenses_DEPARTMENT'!I407 -> 0 | J39: ='Pre-Opening_Expenses_DEPARTMENT'!J407 -> 0 | K39: ='Pre-Opening_Expenses_DEPARTMENT'!K407 -> 0 | L39: ='Pre-Opening_Expenses_DEPARTMENT'!L407 -> 21300 | ... R39: ='Pre-Opening_Expenses_DEPARTMENT'!R407 -> 864875
A40: ='Pre-Opening_Expenses_DEPARTMENT'!B408 -> TOTAL HUMAN RESOURCES DIVISION | E40: ='Pre-Opening_Expenses_DEPARTMENT'!E408 -> 0 | F40: ='Pre-Opening_Expenses_DEPARTMENT'!F408 -> 0 | G40: ='Pre-Opening_Expenses_DEPARTMENT'!G408 -> 0 | H40: ='Pre-Opening_Expenses_DEPARTMENT'!H408 -> 0 | I40: ='Pre-Opening_Expenses_DEPARTMENT'!I408 -> 0 | J40: ='Pre-Opening_Expenses_DEPARTMENT'!J408 -> 0 | K40: ='Pre-Opening_Expenses_DEPARTMENT'!K408 -> 24140 | L40: ='Pre-Opening_Expenses_DEPARTMENT'!L408 -> 48635 | ... R40: ='Pre-Opening_Expenses_DEPARTMENT'!R408 -> 1353000
A42: ='Pre-Opening_Expenses_DEPARTMENT'!D410 -> TOTAL PAYROLL | E42: ='Pre-Opening_Expenses_DEPARTMENT'!E410 -> 0 | F42: ='Pre-Opening_Expenses_DEPARTMENT'!F410 -> 0 | G42: ='Pre-Opening_Expenses_DEPARTMENT'!G410 -> 0 | H42: ='Pre-Opening_Expenses_DEPARTMENT'!H410 -> 0 | I42: ='Pre-Opening_Expenses_DEPARTMENT'!I410 -> 0 | J42: ='Pre-Opening_Expenses_DEPARTMENT'!J410 -> 0 | K42: ='Pre-Opening_Expenses_DEPARTMENT'!K410 -> 34790 | L42: ='Pre-Opening_Expenses_DEPARTMENT'!L410 -> 158330 | ... R42: ='Pre-Opening_Expenses_DEPARTMENT'!R410 -> 7555820
A43: ='Pre-Opening_Expenses_DEPARTMENT'!D411 -> TOTAL NON PAYROLL | E43: ='Pre-Opening_Expenses_DEPARTMENT'!E411 -> 0 | F43: ='Pre-Opening_Expenses_DEPARTMENT'!F411 -> 0 | G43: ='Pre-Opening_Expenses_DEPARTMENT'!G411 -> 0 | H43: ='Pre-Opening_Expenses_DEPARTMENT'!H411 -> 0 | I43: ='Pre-Opening_Expenses_DEPARTMENT'!I411 -> 0 | J43: ='Pre-Opening_Expenses_DEPARTMENT'!J411 -> 0 | K43: ='Pre-Opening_Expenses_DEPARTMENT'!K411 -> 0 | L43: ='Pre-Opening_Expenses_DEPARTMENT'!L411 -> 73306 | ... R43: ='Pre-Opening_Expenses_DEPARTMENT'!R411 -> 6905556
A44: ='Pre-Opening_Expenses_DEPARTMENT'!D412 -> TOTAL PREOPENING EXPENSE | E44: ='Pre-Opening_Expenses_DEPARTMENT'!E412 -> #REF! | F44: ='Pre-Opening_Expenses_DEPARTMENT'!F412 -> #REF! | G44: ='Pre-Opening_Expenses_DEPARTMENT'!G412 -> #REF! | H44: ='Pre-Opening_Expenses_DEPARTMENT'!H412 -> #REF! | I44: ='Pre-Opening_Expenses_DEPARTMENT'!I412 -> #REF! | J44: ='Pre-Opening_Expenses_DEPARTMENT'!J412 -> #REF! | K44: ='Pre-Opening_Expenses_DEPARTMENT'!K412 -> 34790 | L44: ='Pre-Opening_Expenses_DEPARTMENT'!L412 -> 231636 | ... R44: ='Pre-Opening_Expenses_DEPARTMENT'!R412 -> 14461376

Sheet Pre-Opening_Expenses_DEPARTMENT
A1: ="PRE-OPENING BUDGET (BY DEPARTMENT) "&SUMMARY!B7 -> PRE-OPENING BUDGET (BY DEPARTMENT) The Hotel | O1: Opening Date: | Q1: =Manning!R1 -> 43997
A2: Instructions:
A3: NAME and ALL DATES are automatically updated according to the SUMMARY sheet
A4: DO NOT ADJUST THE PAYROLL RELATED EXPENSES, THESE WILL AUTOMATICALLY UPDATE ACCORDING TO THE MANNING SHEETS.
A5: Adjust the names of the Items by clicking on the cell
A6: Add, delete or adjust the numbers by clicking on the cell
A7: DO NOT ADD NEW LINES (this could damage formulas on other sheets), Should you need to add a new item, either delete another ITEM or use one of the ADDITIONAL ITEMS and rename it
D8: ITEM | E8: =Manning!K9 -> 43631 | F8: =Manning!L9 -> 43661 | G8: =Manning!M9 -> 43692 | H8: =Manning!N9 -> 43723 | I8: =Manning!O9 -> 43753 | J8: =Manning!P9 -> 43784 | K8: =Manning!Q9 -> 43814 | L8: =Manning!R9 -> 43845 | ... Q8: =Manning!W9 -> 43997 | R8: TOTAL
B9: ADMINISTRATIVE & GENERAL
D10: ='Salary Summary'!C6&" PAYROLL" -> EXECUTIVE OFFICE PAYROLL
D12: ='Salary Summary'!C18&" PAYROLL" -> TOTAL EXECUTIVE OFFICE PAYROLL | E12: ='Salary Summary'!X17 -> 0 | F12: ='Salary Summary'!Y17 -> 0 | G12: ='Salary Summary'!Z17 -> 0 | H12: ='Salary Summary'!AA17 -> 0 | I12: ='Salary Summary'!AB17 -> 0 | J12: ='Salary Summary'!AC17 -> 0 | L12: ='Salary Summary'!AE17 -> 82360 | M12: ='Salary Summary'!AF17 -> 193120 | N12: ='Salary Summary'!AG17 -> 193120 | O12: ='Salary Summary'!AH17 -> 193120 | P12: ='Salary Summary'!AI17 -> 193120 | Q12: ='Salary Summary'!AJ17 -> 193120 | R12: =SUM(E12:Q12) -> 1047960
D14: ='Salary Summary'!C18&" PAYROLL" -> TOTAL EXECUTIVE OFFICE PAYROLL | E14: =SUM(E12) -> 0 | F14: =SUM(F12) -> 0 | G14: =SUM(G12) -> 0 | H14: =SUM(H12) -> 0 | I14: =SUM(I12) -> 0 | J14: =SUM(J12) -> 0 | K14: =SUM(K12) -> 0 | L14: =SUM(L12) -> 82360 | ... Q14: =SUM(Q12) -> 193120 | R14: =SUM(E14:Q14) -> 1047960
D16: A & G GENERAL EXPENSES
D18: Postage, Telegrams, Courier | K18: 0 | L18: 500 | M18: 500 | N18: 500 | O18: 1500 | P18: 1500 | Q18: 2000 | R18: =SUM(K18:Q18) -> 6500
D19: Telephone, Telex, Fax and E-mail | K19: 0 | L19: 450 | M19: 650 | N19: 1350 | O19: 1450 | P19: 1550 | Q19: 1550 | R19: =SUM(K19:Q19) -> 7000
D20: Printing & Stationery | K20: 0 | L20: 5000 | M20: 1000 | N20: 1000 | O20: 1000 | P20: 1000 | Q20: 1000 | R20: =SUM(K20:Q20) -> 10000
D21: Travelling Expenses/Relocation Expenses | K21: 0 | L21: 11000 | M21: 13500 | N21: 20500 | O21: 0 | P21: 0 | Q21: 0 | R21: =SUM(K21:Q21) -> 45000
D22: Entertainment | K22: 0 | L22: 2250 | M22: 2250 | N22: 4250 | O22: 4250 | P22: 4250 | Q22: 4250 | R22: =SUM(K22:Q22) -> 21500
D23: Pre-Opening Office -Rental | K23: 0 | L23: 0 | M23: 0 | N23: 0 | O23: 0 | P23: 0 | Q23: 0 | R23: =SUM(K23:Q23) -> 0
D24: General Insurance | K24: 0 | L24: 0 | M24: 0 | N24: 0 | O24: 0 | P24: 0 | Q24: 0 | R24: =SUM(K24:Q24) -> 0
D25: Legal Fees | K25: 0 | L25: 0 | M25: 0 | N25: 0 | O25: 0 | P25: 0 | Q25: 0 | R25: 0
D26: Licenses & Fees | K26: 0 | L26: 0 | M26: 0 | N26: 0 | O26: 0 | P26: 0 | Q26: 0 | R26: =SUM(K26:Q26) -> 0
D27: Bank Charges | K27: 0 | L27: 0 | M27: 0 | N27: 0 | O27: 0 | P27: 0 | Q27: 0 | R27: 0
D28: Transportation(Taxi, Fuel etc.) | K28: 0 | L28: 500 | M28: 750 | N28: 1000 | O28: 1250 | P28: 1500 | Q28: 1500 | R28: =SUM(K28:Q28) -> 6500
D29: Accomodation | K29: 0 | L29: 7500 | M29: 11450 | N29: 30350 | O29: 33500 | P29: 34550 | Q29: 2000 | R29: =SUM(K29:Q29) -> 119350
D30: Food & Beverage Allowance | K30: 0 | R30: =SUM(K30:Q30) -> 0
D31: Laundry | K31: 0 | L31: 300 | M31: 600 | N31: 1800 | O31: 1800 | P31: 1800 | Q31: 1800 | R31: =SUM(K31:Q31) -> 8100
D32: General Expenses | K32: 0 | L32: 500 | M32: 750 | N32: 2250 | O32: 3000 | P32: 3000 | Q32: 3000 | R32: =SUM(K32:Q32) -> 12500
D33: Car/Vehicle Expenses | K33: 0 | L33: 0 | M33: 1000 | N33: 1000 | O33: 1000 | P33: 1000 | Q33: 1000 | R33: =SUM(K33:Q33) -> 5000
D34: Miscellaneous | K34: 0 | L34: 2500 | M34: 2500 | N34: 2500 | O34: 5000 | P34: 5000 | Q34: 5000 | R34: =SUM(K34:Q34) -> 22500
D36: ="TOTAL "&D16 -> TOTAL A & G GENERAL EXPENSES | E36: =SUM(E17:E35) -> 0 | F36: =SUM(F17:F35) -> 0 | G36: =SUM(G17:G35) -> 0 | H36: =SUM(H17:H35) -> 0 | I36: =SUM(I17:I35) -> 0 | J36: =SUM(J17:J35) -> 0 | K36: =SUM(K17:K35) -> 0 | L36: =SUM(L17:L35) -> 30500 | ... R36: =SUM(R17:R35) -> 263950
D37: TOTAL NON-PAYROLL | E37: =E36 -> 0 | F37: =F36 -> 0 | G37: =G36 -> 0 | H37: =H36 -> 0 | I37: =I36 -> 0 | J37: =J36 -> 0 | K37: =K36 -> 0 | L37: =L36 -> 30500 | ... R37: =R36 -> 263950
B38: ="TOTAL "&B9 -> TOTAL ADMINISTRATIVE & GENERAL | E38: =E37+E14 -> 0 | F38: =F37+F14 -> 0 | G38: =G37+G14 -> 0 | H38: =H37+H14 -> 0 | I38: =I37+I14 -> 0 | J38: =J37+J14 -> 0 | K38: =K37+K14 -> 0 | L38: =L37+L14 -> 112860 | ... R38: =R37+R14 -> 1311910
B40: ='Salary Summary'!C20 -> ROOMS DIVISION
D41: ROOMS DIVISION PAYROLL
D43: ='Salary Summary'!E28&" PAYROLL" -> TOTAL ROOMS DIVISION ADMINISTRATION PAYROLL | E43: ='Salary Summary'!X28 -> 0 | F43: ='Salary Summary'!Y28 -> 0 | G43: ='Salary Summary'!Z28 -> 0 | H43: ='Salary Summary'!AA28 -> 0 | I43: ='Salary Summary'!AB28 -> 0 | J43: ='Salary Summary'!AC28 -> 0 | K43: ='Salary Summary'!AD28 -> 0 | L43: ='Salary Summary'!AE28 -> 0 | ... Q43: ='Salary Summary'!AJ28 -> 0 | R43: =SUM(E43:Q43) -> 0
D44: ='Salary Summary'!D91&" PAYROLL" -> TOTAL FRONT DESK PAYROLL | E44: ='Salary Summary'!X91 -> 0 | F44: ='Salary Summary'!Y91 -> 0 | G44: ='Salary Summary'!Z91 -> 0 | H44: ='Salary Summary'!AA91 -> 0 | I44: ='Salary Summary'!AB91 -> 0 | J44: ='Salary Summary'!AC91 -> 0 | K44: ='Salary Summary'!AD91 -> 0 | L44: ='Salary Summary'!AE91 -> 0 | ... Q44: ='Salary Summary'!AJ91 -> 188505 | R44: =SUM(E44:Q44) -> 482445
D45: ='Salary Summary'!D126&" PAYROLL" -> TOTAL HOUSEKEEPING PAYROLL | E45: ='Salary Summary'!X126 -> 0 | F45: ='Salary Summary'!Y126 -> 0 | G45: ='Salary Summary'!Z126 -> 0 | H45: ='Salary Summary'!AA126 -> 0 | I45: ='Salary Summary'!AB126 -> 0 | J45: ='Salary Summary'!AC126 -> 0 | K45: ='Salary Summary'!AD126 -> 0 | L45: ='Salary Summary'!AE126 -> 2485 | ... Q45: ='Salary Summary'!AJ126 -> 297490 | R45: =SUM(E45:Q45) -> 757215
D46: ='Salary Summary'!E139&" PAYROLL" -> TOTAL LAUNDRY / LINEN / UNIFORM PAYROLL | E46: ='Salary Summary'!X139 -> 0 | F46: ='Salary Summary'!Y139 -> 0 | G46: ='Salary Summary'!Z139 -> 0 | H46: ='Salary Summary'!AA139 -> 0 | I46: ='Salary Summary'!AB139 -> 0 | J46: ='Salary Summary'!AC139 -> 0 | K46: ='Salary Summary'!AD139 -> 0 | L46: ='Salary Summary'!AE139 -> 0 | ... Q46: ='Salary Summary'!AJ139 -> 36920 | R46: =SUM(E46:Q46) -> 91945
D47: ='Salary Summary'!E154&" PAYROLL" -> TOTAL HEALTH CLUB & RECREATION PAYROLL | E47: ='Salary Summary'!X154 -> 0 | F47: ='Salary Summary'!Y154 -> 0 | G47: ='Salary Summary'!Z154 -> 0 | H47: ='Salary Summary'!AA154 -> 0 | I47: ='Salary Summary'!AB154 -> 0 | J47: ='Salary Summary'!AC154 -> 0 | K47: ='Salary Summary'!AD154 -> 0 | L47: ='Salary Summary'!AE154 -> 0 | ... Q47: ='Salary Summary'!AJ154 -> 47215 | R47: =SUM(E47:Q47) -> 108630
...

Sheet Manning
A1: ="MANNING "&SUMMARY!B7 -> MANNING The Hotel | Q1: Opening date: | R1: =SUMMARY!D8 -> 43997
E9: TITLE | G9: English Level | H9: Head count | I9: Status | J9: Level | K9: =DATE(YEAR($R$1)-1,MONTH($R$1),DAY($R$1)) -> 43631 | L9: =DATE(YEAR(K9),MONTH(K9)+1,DAY(K9)) -> 43661 | M9: =DATE(YEAR(L9),MONTH(L9)+1,DAY(L9)) -> 43692 | N9: =DATE(YEAR(M9),MONTH(M9)+1,DAY(M9)) -> 43723 | O9: =DATE(YEAR(N9),MONTH(N9)+1,DAY(N9)) -> 43753 | P9: =DATE(YEAR(O9),MONTH(O9)+1,DAY(O9)) -> 43784 | Q9: =DATE(YEAR(P9),MONTH(P9)+1,DAY(P9)) -> 43814 | R9: =DATE(YEAR(Q9),MONTH(Q9)+1,DAY(Q9)) -> 43845 | S9: =DATE(YEAR(R9),MONTH(R9)+1,DAY(R9)) -> 43876 | ... W9: =DATE(YEAR(V9),MONTH(V9)+1,DAY(V9)) -> 43997
B11: =SUMMARY!B7 -> The Hotel | V11: Training | W11: Soft Opening | Y11: 41609 | Z11: 12月
C12: EXECUTIVE OFFICE | Y12: 41640 | Z12: 1月
E13: EXECUTIVE OFFICE | Y13: 41671 | Z13: 2月
Y14: 41699 | Z14: 3月
E15: GENERAL MANAGER | G15: Fluent | H15: =MAX(K15:W15) -> 1 | I15: FEX | J15: ExCom/L1 | R15: 1 | S15: 1 | T15: 1 | U15: 1 | V15: 1 | W15: 1 | Y15: 41730 | Z15: 4月
E16: GENERAL MANAGERS' PERSONAL ASSISTANT | G16: Fluent | H16: =MAX(K16:W16) -> 1 | I16: L | J16: L4 | S16: 1 | T16: 1 | U16: 1 | V16: 1 | W16: 1 | Y16: 41760 | Z16: 5月
E17: EXECUTIVE ASSISTANT MANAGER / ROOMS DIVISION | G17: Fluent | H17: =MAX(K17:W17) -> 1 | I17: L | J17: ExCom/L2 | S17: 1 | T17: 1 | U17: 1 | V17: 1 | W17: 1 | Y17: 41791 | Z17: 6月
E18: EXECUTIVE ASSISTANT MANAGER / FOOD & BEVERAGE | G18: Fluent | H18: =MAX(K18:W18) -> 1 | I18: L | J18: ExCom/L2 | S18: 1 | T18: 1 | U18: 1 | V18: 1 | W18: 1 | Y18: 41821 | Z18: 7月
E19: ADDITIONAL POSITION | G19: Fluent | H19: =MAX(K19:W19) -> 0 | Y19: 41852 | Z19: 8月
E20: MANAGEMENT SECRETARY | G20: Fluent | H20: =MAX(K20:W20) -> 1 | I20: L | J20: L4 | S20: 1 | T20: 1 | U20: 1 | V20: 1 | W20: 1 | Y20: 41883 | Z20: 9月
E21: MANAGEMENT DRIVER | G21: Common | H21: =MAX(K21:W21) -> 1 | J21: L7 | S21: 1 | T21: 1 | U21: 1 | V21: 1 | W21: 1 | Y21: 41913 | Z21: 10月
Y22: 41944 | Z22: 11月
E23: ="TOTAL "&E13 -> TOTAL EXECUTIVE OFFICE | H23: =SUM(H14:H22) -> 6 | K23: =SUM(K14:K22) -> 0 | L23: =SUM(L14:L22) -> 0 | M23: =SUM(M14:M22) -> 0 | N23: =SUM(N14:N22) -> 0 | O23: =SUM(O14:O22) -> 0 | P23: =SUM(P14:P22) -> 0 | Q23: =SUM(Q14:Q22) -> 0 | R23: =SUM(R14:R22) -> 1 | ... W23: =SUM(W14:W22) -> 6 | Y23: 41974 | Z23: 12月
C24: ="TOTAL "&C12 -> TOTAL EXECUTIVE OFFICE | H24: =H23 -> 6 | K24: =K23 -> 0 | L24: =L23 -> 0 | M24: =M23 -> 0 | N24: =N23 -> 0 | O24: =O23 -> 0 | P24: =P23 -> 0 | Q24: =Q23 -> 0 | R24: =R23 -> 1 | ... W24: =W23 -> 6
C26: ROOMS DIVISION
E27: ROOMS DIVISION ADMINISTRATION
E29: ROOMS DIVISION DIRECTOR | G29: Fluent | H29: =MAX(K29:W29) -> 0 | I29: L
E30: SECRETARY | G30: Fluent | H30: =MAX(K30:W30) -> 0 | I30: L
E31: ADDITIONAL POSITION 1 | G31: Fluent | H31: =MAX(K31:W31) -> 0 | I31: L
E32: ADDITIONAL POSITION 2 | G32: Fluent | H32: =MAX(K32:W32) -> 0 | I32: L
E34: ="TOTAL "&E27 -> TOTAL ROOMS DIVISION ADMINISTRATION | H34: =SUM(H28:H33) -> 0 | K34: =SUM(K28:K33) -> 0 | L34: =SUM(L28:L33) -> 0 | M34: =SUM(M28:M33) -> 0 | N34: =SUM(N28:N33) -> 0 | O34: =SUM(O28:O33) -> 0 | P34: =SUM(P28:P33) -> 0 | Q34: =SUM(Q28:Q33) -> 0 | R34: =SUM(R28:R33) -> 0 | ... W34: =SUM(W28:W33) -> 0
D36: FRONT DESK
E37: FRONT OFFICE
E39: FRONT OFFICE MANAGER | G39: Fluent | H39: =MAX(K39:W39) -> 1 | I39: L | J39: L3 | S39: 1 | T39: 1 | U39: 1 | V39: 1 | W39: 1
E40: ASSISTANT F/O MANAGER | G40: Fluent | H40: =MAX(K40:W40) -> 1 | I40: L | J40: L4 | T40: 1 | U40: 1 | V40: 1 | W40: 1
E41: GUEST SERVICES MANAGER / NIGHT MANAGER | G41: Fluent | H41: =MAX(K41:W41) -> 1 | I41: L | J41: L4 | V41: 1 | W41: 1
E42: GUEST RELATIONS MANAGER | G42: Fluent | H42: =MAX(K42:W42) -> 1 | I42: L | J42: L6 | V42: 1 | W42: 1
E43: GUEST RELATION OFFICER | G43: Fluent | H43: =MAX(K43:W43) -> 1 | I43: L | J43: L7 | V43: 1 | W43: 1
E44: FRONT OFFICE SUPERVISOR | G44: Fluent | H44: =MAX(K44:W44) -> 2 | I44: L | J44: L5 | V44: 2 | W44: 2
E45: RECEPTIONIST | G45: Fluent | H45: =MAX(K45:W45) -> 6 | I45: L | J45: L7 | V45: 3 | W45: 6
E46: ADDITIONAL POSITION 1 | H46: =MAX(K46:W46) -> 0 | I46: L
E47: ADDITIONAL POSITION 2 | H47: =MAX(K47:W47) -> 0 | I47: L
E49: ="TOTAL "&E37 -> TOTAL FRONT OFFICE | H49: =SUM(H38:H48) -> 13 | K49: =SUM(K38:K48) -> 0 | L49: =SUM(L38:L48) -> 0 | M49: =SUM(M38:M48) -> 0 | N49: =SUM(N38:N48) -> 0 | O49: =SUM(O38:O48) -> 0 | P49: =SUM(P38:P48) -> 0 | Q49: =SUM(Q38:Q48) -> 0 | R49: =SUM(R38:R48) -> 0 | ... W49: =SUM(W38:W48) -> 13
E51: EXECUTIVE FLOOR
E53: EXECUTIVE FLOOR MANAGER | G53: Fluent | H53: =MAX(K53:W53) -> 1 | I53: L | J53: L4 | T53: 1 | U53: 1 | V53: 1 | W53: 1
E54: EXECUTIVE FLOOR ASSISTANT MANAGER | G54: Fluent | H54: =MAX(K54:W54) -> 1 | I54: L | J54: L5 | U54: 1 | V54: 1 | W54: 1
E55: EXECUTIVE FLOOR OFFICER | G55: Fluent | H55: =MAX(K55:W55) -> 3 | I55: L | J55: L7 | V55: 3 | W55: 3
E56: EXECUTIVE FLOOR BUTLER | G56: Fluent | H56: =MAX(K56:W56) -> 0 | I56: L
...

Sheet Salary Level
A1: ="SALARY LEVEL "&SUMMARY!B7 -> SALARY LEVEL The Hotel | M1: Opening Date: | N1: =Manning!R1 -> 43997
E9: =Manning!E9 -> TITLE
G10: Head count | H10: Status | I10: Level | J10: Basic salary | K10: Growth up | L10: Growth Up (Benefits & Taxes) | M10: Total payroll cost per staff per month | N10: Total payroll cost per staff per year | O10: Total payroll cost total staff per month | P10: Total payroll cost total staff per year
B11: =Manning!B11 -> The Hotel
C12: =Manning!C12 -> EXECUTIVE OFFICE
E13: =Manning!E13 -> EXECUTIVE OFFICE | F13: =Manning!F13 -> 0
E15: =Manning!E15 -> GENERAL MANAGER | F15: =Manning!F15 -> 0 | G15: =Manning!H15 -> 1 | H15: =Manning!I15 -> FEX | I15: =Manning!J15 -> ExCom/L1 | J15: 58000 | K15: 0.42 | L15: =J15*K15 -> 24360 | M15: =IF(G15=0,0,J15+L15) -> 82360 | N15: =IF(G15=0,0,M15*12) -> 988320 | O15: =IF(G15=0,0,G15*M15) -> 82360 | P15: =IF(G15=0,0,G15*N15) -> 988320
E16: =Manning!E16 -> GENERAL MANAGERS' PERSONAL ASSISTANT | F16: =Manning!F16 -> 0 | G16: =Manning!H16 -> 1 | H16: =Manning!I16 -> L | I16: =Manning!J16 -> L4 | J16: 7000 | K16: 0.42 | L16: =J16*K16 -> 2940 | M16: =IF(G16=0,0,J16+L16) -> 9940 | N16: =IF(G16=0,0,M16*12) -> 119280 | O16: =IF(G16=0,0,G16*M16) -> 9940 | P16: =IF(G16=0,0,G16*N16) -> 119280
E17: =Manning!E17 -> EXECUTIVE ASSISTANT MANAGER / ROOMS DIVISION | F17: =Manning!F17 -> 0 | G17: =Manning!H17 -> 1 | H17: =Manning!I17 -> L | I17: =Manning!J17 -> ExCom/L2 | J17: 27500 | K17: 0.42 | L17: =J17*K17 -> 11550 | M17: =IF(G17=0,0,J17+L17) -> 39050 | N17: =IF(G17=0,0,M17*12) -> 468600 | O17: =IF(G17=0,0,G17*M17) -> 39050 | P17: =IF(G17=0,0,G17*N17) -> 468600
E18: =Manning!E18 -> EXECUTIVE ASSISTANT MANAGER / FOOD & BEVERAGE | F18: =Manning!F18 -> 0 | G18: =Manning!H18 -> 1 | H18: =Manning!I18 -> L | I18: =Manning!J18 -> ExCom/L2 | J18: 36000 | K18: 0.42 | L18: =J18*K18 -> 15120 | M18: =IF(G18=0,0,J18+L18) -> 51120 | N18: =IF(G18=0,0,M18*12) -> 613440 | O18: =IF(G18=0,0,G18*M18) -> 51120 | P18: =IF(G18=0,0,G18*N18) -> 613440
E19: =Manning!E19 -> ADDITIONAL POSITION | F19: =Manning!F19 -> 0 | G19: =Manning!H19 -> 0 | H19: =Manning!I19 -> 0 | I19: =Manning!J19 -> 0 | K19: 0 | L19: =J19*K19 -> 0 | M19: =IF(G19=0,0,J19+L19) -> 0 | N19: =IF(G19=0,0,M19*12) -> 0 | O19: =IF(G19=0,0,G19*M19) -> 0 | P19: =IF(G19=0,0,G19*N19) -> 0
E20: =Manning!E20 -> MANAGEMENT SECRETARY | F20: =Manning!F20 -> 0 | G20: =Manning!H20 -> 1 | H20: =Manning!I20 -> L | I20: =Manning!J20 -> L4 | J20: 5000 | K20: 0.42 | L20: =J20*K20 -> 2100 | M20: =IF(G20=0,0,J20+L20) -> 7100 | N20: =IF(G20=0,0,M20*12) -> 85200 | O20: =IF(G20=0,0,G20*M20) -> 7100 | P20: =IF(G20=0,0,G20*N20) -> 85200
E21: =Manning!E21 -> MANAGEMENT DRIVER | G21: =Manning!H21 -> 1 | H21: =Manning!I21 -> 0 | I21: =Manning!J21 -> L7 | J21: 2500 | K21: 0.42 | L21: =J21*K21 -> 1050 | M21: =IF(G21=0,0,J21+L21) -> 3550 | N21: =IF(G21=0,0,M21*12) -> 42600 | O21: =IF(G21=0,0,G21*M21) -> 3550 | P21: =IF(G21=0,0,G21*N21) -> 42600
E23: ="TOTAL "&E13 -> TOTAL EXECUTIVE OFFICE | G23: =SUM(G14:G22) -> 6 | J23: =SUM(J14:J22) -> 136000 | L23: =SUM(L14:L22) -> 57120 | M23: =SUM(M14:M22) -> 193120 | N23: =SUM(N14:N22) -> 2317440 | O23: =SUM(O14:O22) -> 193120 | P23: =SUM(P14:P22) -> 2317440
C24: ="TOTAL "&C12 -> TOTAL EXECUTIVE OFFICE | G24: =G23 -> 6 | J24: =J23 -> 136000 | L24: =L23 -> 57120 | M24: =M23 -> 193120 | N24: =N23 -> 2317440 | O24: =O23 -> 193120 | P24: =P23 -> 2317440
C26: =Manning!C26 -> ROOMS DIVISION
E27: =Manning!E27 -> ROOMS DIVISION ADMINISTRATION
E29: =Manning!E29 -> ROOMS DIVISION DIRECTOR | G29: =Manning!H29 -> 0 | H29: =Manning!I29 -> L | I29: =Manning!J29 -> 0 | J29: 0 | L29: =J29*K29 -> 0 | M29: =IF(G29=0,0,J29+L29) -> 0 | N29: =IF(G29=0,0,M29*12) -> 0 | O29: =IF(G29=0,0,G29*M29) -> 0 | P29: =IF(G29=0,0,G29*N29) -> 0
E30: =Manning!E30 -> SECRETARY | G30: =Manning!H30 -> 0 | H30: =Manning!I30 -> L | I30: =Manning!J30 -> 0 | L30: =J30*K30 -> 0 | M30: =IF(G30=0,0,J30+L30) -> 0 | N30: =IF(G30=0,0,M30*12) -> 0 | O30: =IF(G30=0,0,G30*M30) -> 0 | P30: =IF(G30=0,0,G30*N30) -> 0
E31: =Manning!E31 -> ADDITIONAL POSITION 1 | G31: =Manning!H31 -> 0 | H31: =Manning!I31 -> L | I31: =Manning!J31 -> 0 | L31: =J31*K31 -> 0 | M31: =IF(G31=0,0,J31+L31) -> 0 | N31: =IF(G31=0,0,M31*12) -> 0 | O31: =IF(G31=0,0,G31*M31) -> 0 | P31: =IF(G31=0,0,G31*N31) -> 0
E32: =Manning!E32 -> ADDITIONAL POSITION 2 | G32: =Manning!H32 -> 0 | H32: =Manning!I32 -> L | I32: =Manning!J32 -> 0 | L32: =J32*K32 -> 0 | M32: =IF(G32=0,0,J32+L32) -> 0 | N32: =IF(G32=0,0,M32*12) -> 0 | O32: =IF(G32=0,0,G32*M32) -> 0 | P32: =IF(G32=0,0,G32*N32) -> 0
E34: ="TOTAL "&E27 -> TOTAL ROOMS DIVISION ADMINISTRATION | G34: =SUM(G28:G33) -> 0 | J34: =SUM(J25:J33) -> 0 | L34: =SUM(L28:L33) -> 0 | M34: =SUM(M28:M33) -> 0 | N34: =SUM(N28:N33) -> 0 | O34: =SUM(O28:O33) -> 0 | P34: =SUM(P28:P33) -> 0
D36: =Manning!D36 -> FRONT DESK
E37: =Manning!E37 -> FRONT OFFICE | F37: =Manning!F37 -> 0
E39: =Manning!E39 -> FRONT OFFICE MANAGER | F39: =Manning!F39 -> 0 | G39: =Manning!H39 -> 1 | H39: =Manning!I39 -> L | I39: =Manning!J39 -> L3 | J39: 12000 | K39: 0.42 | L39: =J39*K39 -> 5040 | M39: =IF(G39=0,0,J39+L39) -> 17040 | N39: =IF(G39=0,0,M39*12) -> 204480 | O39: =IF(G39=0,0,G39*M39) -> 17040 | P39: =IF(G39=0,0,G39*N39) -> 204480
E40: =Manning!E40 -> ASSISTANT F/O MANAGER | F40: =Manning!F40 -> 0 | G40: =Manning!H40 -> 1 | H40: =Manning!I40 -> L | I40: =Manning!J40 -> L4 | J40: 7000 | K40: 0.42 | L40: =J40*K40 -> 2940 | M40: =IF(G40=0,0,J40+L40) -> 9940 | N40: =IF(G40=0,0,M40*12) -> 119280 | O40: =IF(G40=0,0,G40*M40) -> 9940 | P40: =IF(G40=0,0,G40*N40) -> 119280
E41: =Manning!E41 -> GUEST SERVICES MANAGER / NIGHT MANAGER | F41: =Manning!F41 -> 0 | G41: =Manning!H41 -> 1 | H41: =Manning!I41 -> L | I41: =Manning!J41 -> L4 | J41: 5000 | K41: 0.42 | L41: =J41*K41 -> 2100 | M41: =IF(G41=0,0,J41+L41) -> 7100 | N41: =IF(G41=0,0,M41*12) -> 85200 | O41: =IF(G41=0,0,G41*M41) -> 7100 | P41: =IF(G41=0,0,G41*N41) -> 85200
E42: =Manning!E42 -> GUEST RELATIONS MANAGER | F42: =Manning!F42 -> 0 | G42: =Manning!H42 -> 1 | H42: =Manning!I42 -> L | I42: =Manning!J42 -> L6 | J42: 5000 | K42: 0.42 | L42: =J42*K42 -> 2100 | M42: =IF(G42=0,0,J42+L42) -> 7100 | N42: =IF(G42=0,0,M42*12) -> 85200 | O42: =IF(G42=0,0,G42*M42) -> 7100 | P42: =IF(G42=0,0,G42*N42) -> 85200
E43: =Manning!E43 -> GUEST RELATION OFFICER | F43: =Manning!F43 -> 0 | G43: =Manning!H43 -> 1 | H43: =Manning!I43 -> L | I43: =Manning!J43 -> L7 | J43: 3000 | K43: 0.42 | L43: =J43*K43 -> 1260 | M43: =IF(G43=0,0,J43+L43) -> 4260 | N43: =IF(G43=0,0,M43*12) -> 51120 | O43: =IF(G43=0,0,G43*M43) -> 4260 | P43: =IF(G43=0,0,G43*N43) -> 51120
E44: =Manning!E44 -> FRONT OFFICE SUPERVISOR | F44: =Manning!F44 -> 0 | G44: =Manning!H44 -> 2 | H44: =Manning!I44 -> L | I44: =Manning!J44 -> L5 | J44: 4000 | K44: 0.42 | L44: =J44*K44 -> 1680 | M44: =IF(G44=0,0,J44+L44) -> 5680 | N44: =IF(G44=0,0,M44*12) -> 68160 | O44: =IF(G44=0,0,G44*M44) -> 11360 | P44: =IF(G44=0,0,G44*N44) -> 136320
E45: =Manning!E45 -> RECEPTIONIST | F45: =Manning!F45 -> 0 | G45: =Manning!H45 -> 6 | H45: =Manning!I45 -> L | I45: =Manning!J45 -> L7 | J45: 3000 | K45: 0.42 | L45: =J45*K45 -> 1260 | M45: =IF(G45=0,0,J45+L45) -> 4260 | N45: =IF(G45=0,0,M45*12) -> 51120 | O45: =IF(G45=0,0,G45*M45) -> 25560 | P45: =IF(G45=0,0,G45*N45) -> 306720
E46: =Manning!E46 -> ADDITIONAL POSITION 1 | G46: =Manning!H46 -> 0 | H46: =Manning!I46 -> L | I46: =Manning!J46 -> 0 | L46: =J46*K46 -> 0 | M46: =IF(G46=0,0,J46+L46) -> 0 | N46: =IF(G46=0,0,M46*12) -> 0 | O46: =IF(G46=0,0,G46*M46) -> 0 | P46: =IF(G46=0,0,G46*N46) -> 0
E47: =Manning!E47 -> ADDITIONAL POSITION 2 | G47: =Manning!H47 -> 0 | H47: =Manning!I47 -> L | I47: =Manning!J47 -> 0 | L47: =J47*K47 -> 0 | M47: =IF(G47=0,0,J47+L47) -> 0 | N47: =IF(G47=0,0,M47*12) -> 0 | O47: =IF(G47=0,0,G47*M47) -> 0 | P47: =IF(G47=0,0,G47*N47) -> 0
E49: ="TOTAL "&E37 -> TOTAL FRONT OFFICE | G49: =SUM(G38:G48) -> 13 | J49: =SUM(J38:J48) -> 39000 | L49: =SUM(L38:L48) -> 16380 | M49: =SUM(M38:M48) -> 55380 | N49: =SUM(N38:N48) -> 664560 | O49: =SUM(O38:O48) -> 82360 | P49: =SUM(P38:P48) -> 988320
E51: =Manning!E51 -> EXECUTIVE FLOOR
E53: =Manning!E53 -> EXECUTIVE FLOOR MANAGER | G53: =Manning!H53 -> 1 | H53: =Manning!I53 -> L | I53: =Manning!J53 -> L4 | J53: 5000 | K53: 0.42 | L53: =J53*K53 -> 2100 | M53: =IF(G53=0,0,J53+L53) -> 7100 | N53: =IF(G53=0,0,M53*12) -> 85200 | O53: =IF(G53=0,0,G53*M53) -> 7100 | P53: =IF(G53=0,0,G53*N53) -> 85200
E54: =Manning!E54 -> EXECUTIVE FLOOR ASSISTANT MANAGER | G54: =Manning!H54 -> 1 | H54: =Manning!I54 -> L | I54: =Manning!J54 -> L5 | J54: 4000 | K54: 0.42 | L54: =J54*K54 -> 1680 | M54: =IF(G54=0,0,J54+L54) -> 5680 | N54: =IF(G54=0,0,M54*12) -> 68160 | O54: =IF(G54=0,0,G54*M54) -> 5680 | P54: =IF(G54=0,0,G54*N54) -> 68160
E55: =Manning!E55 -> EXECUTIVE FLOOR OFFICER | G55: =Manning!H55 -> 3 | H55: =Manning!I55 -> L | I55: =Manning!J55 -> L7 | J55: 3000 | K55: 0.42 | L55: =J55*K55 -> 1260 | M55: =IF(G55=0,0,J55+L55) -> 4260 | N55: =IF(G55=0,0,M55*12) -> 51120 | O55: =IF(G55=0,0,G55*M55) -> 12780 | P55: =IF(G55=0,0,G55*N55) -> 153360
E56: =Manning!E56 -> EXECUTIVE FLOOR BUTLER | G56: =Manning!H56 -> 0 | H56: =Manning!I56 -> L | L56: =J56*K56 -> 0 | M56: =IF(G56=0,0,J56+L56) -> 0 | N56: =IF(G56=0,0,M56*12) -> 0 | O56: =IF(G56=0,0,G56*M56) -> 0 | P56: =IF(G56=0,0,G56*N56) -> 0
E57: =Manning!E57 -> ADDITIONAL POSITION 1 | G57: =Manning!H57 -> 0 | H57: =Manning!I57 -> L | L57: =J57*K57 -> 0 | M57: =IF(G57=0,0,J57+L57) -> 0 | N57: =IF(G57=0,0,M57*12) -> 0 | O57: =IF(G57=0,0,G57*M57) -> 0 | P57: =IF(G57=0,0,G57*N57) -> 0
...

Sheet Salary Summary
A1: ="SALARY SUMMARY "&SUMMARY!B7 -> SALARY SUMMARY The Hotel
E3: =Manning!E9 -> TITLE | K3: =Manning!K9 -> 43631 | L3: =Manning!L9 -> 43661 | M3: =Manning!M9 -> 43692 | N3: =Manning!N9 -> 43723 | O3: =Manning!O9 -> 43753 | P3: =Manning!P9 -> 43784 | Q3: =Manning!Q9 -> 43814 | R3: =Manning!R9 -> 43845 | ... U3: =Manning!U9 -> 43936 | V3: =Manning!W9 -> 43997 | X3: =Manning!K9 -> 43631 | Y3: =Manning!L9 -> 43661 | Z3: =Manning!M9 -> 43692 | AA3: =Manning!N9 -> 43723 | AB3: =Manning!O9 -> 43753 | AC3: =Manning!P9 -> 43784 | AD3: =Manning!Q9 -> 43814 | AE3: =Manning!R9 -> 43845 | ... AJ3: =Manning!W9 -> 43997
G4: Head count | H4: Status | I4: Level | K4: =Manning!K10 -> 0 | L4: =Manning!L10 -> 0 | M4: =Manning!M10 -> 0 | N4: =Manning!N10 -> 0 | O4: =Manning!O10 -> 0 | P4: =Manning!P10 -> 0 | Q4: =Manning!Q10 -> 0 | R4: =Manning!R10 -> 0 | ... U4: =Manning!U10 -> 0 | V4: =Manning!W10 -> 0 | X4: =Manning!K10 -> 0 | Y4: =Manning!L10 -> 0 | Z4: =Manning!M10 -> 0 | AA4: =Manning!N10 -> 0 | AB4: =Manning!O10 -> 0 | AC4: =Manning!P10 -> 0 | AD4: =Manning!Q10 -> 0 | AE4: =Manning!R10 -> 0 | ... AJ4: =Manning!W10 -> 0
B5: =Manning!B11 -> The Hotel
C6: =Manning!C12 -> EXECUTIVE OFFICE
E7: =Manning!E13 -> EXECUTIVE OFFICE | F7: =Manning!F13 -> 0
E9: =Manning!E15 -> GENERAL MANAGER | F9: =Manning!F15 -> 0 | G9: 1 | H9: =Manning!I15 -> FEX | I9: =Manning!J15 -> ExCom/L1 | K9: =Manning!K15 -> 0 | L9: =Manning!L15 -> 0 | M9: =Manning!M15 -> 0 | N9: =Manning!N15 -> 0 | O9: =Manning!O15 -> 0 | P9: =Manning!P15 -> 0 | Q9: =Manning!Q15 -> 0 | R9: =Manning!R15 -> 1 | ... U9: =Manning!U15 -> 1 | V9: =Manning!W15 -> 1 | X9: =K9*'Salary Level'!$M15 -> 0 | Y9: =L9*'Salary Level'!$M15 -> 0 | Z9: =M9*'Salary Level'!$M15 -> 0 | AA9: =N9*'Salary Level'!$M15 -> 0 | AB9: =O9*'Salary Level'!$M15 -> 0 | AC9: =P9*'Salary Level'!$M15 -> 0 | AD9: =Q9*'Salary Level'!$M15 -> 0 | AE9: =R9*'Salary Level'!$M15 -> 82360 | ... AI9: =V9*'Salary Level'!$M15 -> 82360 | AJ9: =V9*'Salary Level'!$M15 -> 82360 | AK9: =SUM(X9:AJ9) -> 494160
E10: =Manning!E16 -> GENERAL MANAGERS' PERSONAL ASSISTANT | F10: =Manning!F16 -> 0 | G10: =Manning!H16 -> 1 | H10: =Manning!I16 -> L | I10: =Manning!J16 -> L4 | K10: =Manning!K16 -> 0 | L10: =Manning!L16 -> 0 | M10: =Manning!M16 -> 0 | N10: =Manning!N16 -> 0 | O10: =Manning!O16 -> 0 | P10: =Manning!P16 -> 0 | Q10: =Manning!Q16 -> 0 | R10: =Manning!R16 -> 0 | ... U10: =Manning!U16 -> 1 | V10: =Manning!W16 -> 1 | X10: =K10*'Salary Level'!$M16 -> 0 | Y10: =L10*'Salary Level'!$M16 -> 0 | Z10: =M10*'Salary Level'!$M16 -> 0 | AA10: =N10*'Salary Level'!$M16 -> 0 | AB10: =O10*'Salary Level'!$M16 -> 0 | AC10: =P10*'Salary Level'!$M16 -> 0 | AD10: =Q10*'Salary Level'!$M16 -> 0 | AE10: =R10*'Salary Level'!$M16 -> 0 | ... AI10: =V10*'Salary Level'!$M16 -> 9940 | AJ10: =V10*'Salary Level'!$M16 -> 9940 | AK10: =SUM(X10:AJ10) -> 49700
E11: =Manning!E17 -> EXECUTIVE ASSISTANT MANAGER / ROOMS DIVISION | F11: =Manning!F17 -> 0 | G11: =Manning!H17 -> 1 | H11: =Manning!I17 -> L | I11: =Manning!J17 -> ExCom/L2 | K11: =Manning!K17 -> 0 | L11: =Manning!L17 -> 0 | M11: =Manning!M17 -> 0 | N11: =Manning!N17 -> 0 | O11: =Manning!O17 -> 0 | P11: =Manning!P17 -> 0 | Q11: =Manning!Q17 -> 0 | R11: =Manning!R17 -> 0 | ... U11: =Manning!U17 -> 1 | V11: =Manning!W17 -> 1 | X11: =K11*'Salary Level'!$M17 -> 0 | Y11: =L11*'Salary Level'!$M17 -> 0 | Z11: =M11*'Salary Level'!$M17 -> 0 | AA11: =N11*'Salary Level'!$M17 -> 0 | AB11: =O11*'Salary Level'!$M17 -> 0 | AC11: =P11*'Salary Level'!$M17 -> 0 | AD11: =Q11*'Salary Level'!$M17 -> 0 | AE11: =R11*'Salary Level'!$M17 -> 0 | ... AI11: =V11*'Salary Level'!$M17 -> 39050 | AJ11: =V11*'Salary Level'!$M17 -> 39050 | AK11: =SUM(X11:AJ11) -> 195250
E12: =Manning!E18 -> EXECUTIVE ASSISTANT MANAGER / FOOD & BEVERAGE | F12: =Manning!F18 -> 0 | G12: =Manning!H18 -> 1 | H12: =Manning!I18 -> L | I12: =Manning!J18 -> ExCom/L2 | K12: =Manning!K18 -> 0 | L12: =Manning!L18 -> 0 | M12: =Manning!M18 -> 0 | N12: =Manning!N18 -> 0 | O12: =Manning!O18 -> 0 | P12: =Manning!P18 -> 0 | Q12: =Manning!Q18 -> 0 | R12: =Manning!R18 -> 0 | ... U12: =Manning!U18 -> 1 | V12: =Manning!W18 -> 1 | X12: =K12*'Salary Level'!$M18 -> 0 | Y12: =L12*'Salary Level'!$M18 -> 0 | Z12: =M12*'Salary Level'!$M18 -> 0 | AA12: =N12*'Salary Level'!$M18 -> 0 | AB12: =O12*'Salary Level'!$M18 -> 0 | AC12: =P12*'Salary Level'!$M18 -> 0 | AD12: =Q12*'Salary Level'!$M18 -> 0 | AE12: =R12*'Salary Level'!$M18 -> 0 | ... AI12: =V12*'Salary Level'!$M18 -> 51120 | AJ12: =V12*'Salary Level'!$M18 -> 51120 | AK12: =SUM(X12:AJ12) -> 255600
E13: =Manning!E19 -> ADDITIONAL POSITION | F13: =Manning!F19 -> 0 | G13: =Manning!H19 -> 0 | H13: =Manning!I19 -> 0 | I13: =Manning!J19 -> 0 | K13: =Manning!K19 -> 0 | L13: =Manning!L19 -> 0 | M13: =Manning!M19 -> 0 | N13: =Manning!N19 -> 0 | O13: =Manning!O19 -> 0 | P13: =Manning!P19 -> 0 | Q13: =Manning!Q19 -> 0 | R13: =Manning!R19 -> 0 | ... U13: =Manning!U19 -> 0 | V13: =Manning!W19 -> 0 | X13: =K13*'Salary Level'!$M19 -> 0 | Y13: =L13*'Salary Level'!$M19 -> 0 | Z13: =M13*'Salary Level'!$M19 -> 0 | AA13: =N13*'Salary Level'!$M19 -> 0 | AB13: =O13*'Salary Level'!$M19 -> 0 | AC13: =P13*'Salary Level'!$M19 -> 0 | AD13: =Q13*'Salary Level'!$M19 -> 0 | AE13: =R13*'Salary Level'!$M19 -> 0 | ... AI13: =V13*'Salary Level'!$M19 -> 0 | AJ13: =V13*'Salary Level'!$M19 -> 0 | AK13: =SUM(X13:AJ13) -> 0
E14: =Manning!E20 -> MANAGEMENT SECRETARY | F14: =Manning!F20 -> 0 | G14: =Manning!H20 -> 1 | H14: =Manning!I20 -> L | I14: =Manning!J20 -> L4 | K14: =Manning!K20 -> 0 | L14: =Manning!L20 -> 0 | M14: =Manning!M20 -> 0 | N14: =Manning!N20 -> 0 | O14: =Manning!O20 -> 0 | P14: =Manning!P20 -> 0 | Q14: =Manning!Q20 -> 0 | R14: =Manning!R20 -> 0 | ... U14: =Manning!U20 -> 1 | V14: =Manning!W20 -> 1 | X14: =K14*'Salary Level'!$M20 -> 0 | Y14: =L14*'Salary Level'!$M20 -> 0 | Z14: =M14*'Salary Level'!$M20 -> 0 | AA14: =N14*'Salary Level'!$M20 -> 0 | AB14: =O14*'Salary Level'!$M20 -> 0 | AC14: =P14*'Salary Level'!$M20 -> 0 | AD14: =Q14*'Salary Level'!$M20 -> 0 | AE14: =R14*'Salary Level'!$M20 -> 0 | ... AI14: =V14*'Salary Level'!$M20 -> 7100 | AJ14: =V14*'Salary Level'!$M20 -> 7100 | AK14: =SUM(X14:AJ14) -> 35500
E15: =Manning!E21 -> MANAGEMENT DRIVER | G15: =Manning!H21 -> 1 | H15: =Manning!I21 -> 0 | I15: =Manning!J21 -> L7 | K15: =Manning!K21 -> 0 | L15: =Manning!L21 -> 0 | M15: =Manning!M21 -> 0 | N15: =Manning!N21 -> 0 | O15: =Manning!O21 -> 0 | P15: =Manning!P21 -> 0 | Q15: =Manning!Q21 -> 0 | R15: =Manning!R21 -> 0 | ... U15: =Manning!U21 -> 1 | V15: =Manning!W21 -> 1 | X15: =K15*'Salary Level'!$M21 -> 0 | Y15: =L15*'Salary Level'!$M21 -> 0 | Z15: =M15*'Salary Level'!$M21 -> 0 | AA15: =N15*'Salary Level'!$M21 -> 0 | AB15: =O15*'Salary Level'!$M21 -> 0 | AC15: =P15*'Salary Level'!$M21 -> 0 | AD15: =Q15*'Salary Level'!$M21 -> 0 | AE15: =R15*'Salary Level'!$M21 -> 0 | ... AI15: =V15*'Salary Level'!$M21 -> 3550 | AJ15: =V15*'Salary Level'!$M21 -> 3550 | AK15: =SUM(X15:AJ15) -> 17750
AK16: =SUM(X16:AJ16) -> 0
E17: ="TOTAL "&E7 -> TOTAL EXECUTIVE OFFICE | G17: =SUM(G8:G16) -> 6 | K17: =Manning!K23 -> 0 | L17: =Manning!L23 -> 0 | M17: =Manning!M23 -> 0 | N17: =Manning!N23 -> 0 | O17: =Manning!O23 -> 0 | P17: =Manning!P23 -> 0 | Q17: =Manning!Q23 -> 0 | R17: =Manning!R23 -> 1 | ... U17: =Manning!U23 -> 6 | V17: =Manning!W23 -> 6 | X17: =SUM(X8:X16) -> 0 | Y17: =SUM(Y8:Y16) -> 0 | Z17: =SUM(Z8:Z16) -> 0 | AA17: =SUM(AA8:AA16) -> 0 | AB17: =SUM(AB8:AB16) -> 0 | AC17: =SUM(AC8:AC16) -> 0 | AD17: =SUM(AD8:AD16) -> 0 | AE17: =SUM(AE8:AE16) -> 82360 | ... AJ17: =SUM(AJ8:AJ16) -> 193120 | AK17: =SUM(X17:AJ17) -> 1047960
C18: ="TOTAL "&C6 -> TOTAL EXECUTIVE OFFICE | G18: =G17 -> 6 | K18: =Manning!K24 -> 0 | L18: =Manning!L24 -> 0 | M18: =Manning!M24 -> 0 | N18: =Manning!N24 -> 0 | O18: =Manning!O24 -> 0 | P18: =Manning!P24 -> 0 | Q18: =Manning!Q24 -> 0 | R18: =Manning!R24 -> 1 | ... U18: =Manning!U24 -> 6 | V18: =Manning!W24 -> 6 | X18: =X17 -> 0 | Y18: =Y17 -> 0 | Z18: =Z17 -> 0 | AA18: =AA17 -> 0 | AB18: =AB17 -> 0 | AC18: =AC17 -> 0 | AD18: =AD17 -> 0 | AE18: =AE17 -> 82360 | ... AJ18: =AJ17 -> 193120 | AK18: =SUM(X18:AJ18) -> 1047960
AK19: =SUM(X19:AJ19) -> 0
C20: =Manning!C26 -> ROOMS DIVISION | AK20: =SUM(X20:AJ20) -> 0
E21: =Manning!E27 -> ROOMS DIVISION ADMINISTRATION | AK21: =SUM(X21:AJ21) -> 0
AK22: =SUM(X22:AJ22) -> 0
E23: =Manning!E29 -> ROOMS DIVISION DIRECTOR | G23: =Manning!H29 -> 0 | H23: =Manning!I29 -> L | I23: =Manning!J29 -> 0 | K23: =Manning!K29 -> 0 | L23: =Manning!L29 -> 0 | M23: =Manning!M29 -> 0 | N23: =Manning!N29 -> 0 | O23: =Manning!O29 -> 0 | P23: =Manning!P29 -> 0 | Q23: =Manning!Q29 -> 0 | R23: =Manning!R29 -> 0 | ... U23: =Manning!U29 -> 0 | V23: =Manning!W29 -> 0 | X23: =K23*'Salary Level'!$M29 -> 0 | Y23: =L23*'Salary Level'!$M29 -> 0 | Z23: =M23*'Salary Level'!$M29 -> 0 | AA23: =N23*'Salary Level'!$M29 -> 0 | AB23: =O23*'Salary Level'!$M29 -> 0 | AC23: =P23*'Salary Level'!$M29 -> 0 | AD23: =Q23*'Salary Level'!$M29 -> 0 | AE23: =R23*'Salary Level'!$M29 -> 0 | ... AH23: =U23*'Salary Level'!$M29 -> 0 | AJ23: =V23*'Salary Level'!$M29 -> 0 | AK23: =SUM(X23:AJ23) -> 0
E24: =Manning!E30 -> SECRETARY | G24: =Manning!H30 -> 0 | H24: =Manning!I30 -> L | I24: =Manning!J30 -> 0 | K24: =Manning!K30 -> 0 | L24: =Manning!L30 -> 0 | M24: =Manning!M30 -> 0 | N24: =Manning!N30 -> 0 | O24: =Manning!O30 -> 0 | P24: =Manning!P30 -> 0 | Q24: =Manning!Q30 -> 0 | R24: =Manning!R30 -> 0 | ... U24: =Manning!U30 -> 0 | V24: =Manning!W30 -> 0 | X24: =K24*'Salary Level'!$M30 -> 0 | Y24: =L24*'Salary Level'!$M30 -> 0 | Z24: =M24*'Salary Level'!$M30 -> 0 | AA24: =N24*'Salary Level'!$M30 -> 0 | AB24: =O24*'Salary Level'!$M30 -> 0 | AC24: =P24*'Salary Level'!$M30 -> 0 | AD24: =Q24*'Salary Level'!$M30 -> 0 | AE24: =R24*'Salary Level'!$M30 -> 0 | ... AH24: =U24*'Salary Level'!$M30 -> 0 | AJ24: =V24*'Salary Level'!$M30 -> 0 | AK24: =SUM(X24:AJ24) -> 0
E25: =Manning!E31 -> ADDITIONAL POSITION 1 | G25: =Manning!H31 -> 0 | H25: =Manning!I31 -> L | I25: =Manning!J31 -> 0 | K25: =Manning!K31 -> 0 | L25: =Manning!L31 -> 0 | M25: =Manning!M31 -> 0 | N25: =Manning!N31 -> 0 | O25: =Manning!O31 -> 0 | P25: =Manning!P31 -> 0 | Q25: =Manning!Q31 -> 0 | R25: =Manning!R31 -> 0 | ... U25: =Manning!U31 -> 0 | V25: =Manning!W31 -> 0 | X25: =K25*'Salary Level'!$M31 -> 0 | Y25: =L25*'Salary Level'!$M31 -> 0 | Z25: =M25*'Salary Level'!$M31 -> 0 | AA25: =N25*'Salary Level'!$M31 -> 0 | AB25: =O25*'Salary Level'!$M31 -> 0 | AC25: =P25*'Salary Level'!$M31 -> 0 | AD25: =Q25*'Salary Level'!$M31 -> 0 | AE25: =R25*'Salary Level'!$M31 -> 0 | ... AH25: =U25*'Salary Level'!$M31 -> 0 | AJ25: =V25*'Salary Level'!$M31 -> 0 | AK25: =SUM(X25:AJ25) -> 0
E26: =Manning!E32 -> ADDITIONAL POSITION 2 | G26: =Manning!H32 -> 0 | H26: =Manning!I32 -> L | I26: =Manning!J32 -> 0 | K26: =Manning!K32 -> 0 | L26: =Manning!L32 -> 0 | M26: =Manning!M32 -> 0 | N26: =Manning!N32 -> 0 | O26: =Manning!O32 -> 0 | P26: =Manning!P32 -> 0 | Q26: =Manning!Q32 -> 0 | R26: =Manning!R32 -> 0 | ... U26: =Manning!U32 -> 0 | V26: =Manning!W32 -> 0 | X26: =K26*'Salary Level'!$M32 -> 0 | Y26: =L26*'Salary Level'!$M32 -> 0 | Z26: =M26*'Salary Level'!$M32 -> 0 | AA26: =N26*'Salary Level'!$M32 -> 0 | AB26: =O26*'Salary Level'!$M32 -> 0 | AC26: =P26*'Salary Level'!$M32 -> 0 | AD26: =Q26*'Salary Level'!$M32 -> 0 | AE26: =R26*'Salary Level'!$M32 -> 0 | ... AH26: =U26*'Salary Level'!$M32 -> 0 | AJ26: =V26*'Salary Level'!$M32 -> 0 | AK26: =SUM(X26:AJ26) -> 0
AK27: =SUM(X27:AJ27) -> 0
E28: ="TOTAL "&E21 -> TOTAL ROOMS DIVISION ADMINISTRATION | G28: =SUM(G22:G27) -> 0 | K28: =Manning!K34 -> 0 | L28: =Manning!L34 -> 0 | M28: =Manning!M34 -> 0 | N28: =Manning!N34 -> 0 | O28: =Manning!O34 -> 0 | P28: =Manning!P34 -> 0 | Q28: =Manning!Q34 -> 0 | R28: =Manning!R34 -> 0 | ... U28: =Manning!U34 -> 0 | V28: =Manning!W34 -> 0 | X28: =SUM(X22:X27) -> 0 | Y28: =SUM(Y22:Y27) -> 0 | Z28: =SUM(Z22:Z27) -> 0 | AA28: =SUM(AA22:AA27) -> 0 | AB28: =SUM(AB22:AB27) -> 0 | AC28: =SUM(AC22:AC27) -> 0 | AD28: =SUM(AD22:AD27) -> 0 | AE28: =SUM(AE22:AE27) -> 0 | ... AH28: =SUM(AH22:AH27) -> 0 | AJ28: =SUM(AJ22:AJ27) -> 0 | AK28: =SUM(X28:AJ28) -> 0
AK29: =SUM(X29:AJ29) -> 0
D30: =Manning!D36 -> FRONT DESK | AK30: =SUM(X30:AJ30) -> 0
E31: =Manning!E37 -> FRONT OFFICE | F31: =Manning!F37 -> 0 | AK31: =SUM(X31:AJ31) -> 0
AK32: =SUM(X32:AJ32) -> 0
E33: =Manning!E39 -> FRONT OFFICE MANAGER | F33: =Manning!F39 -> 0 | G33: 2 | H33: =Manning!I39 -> L | I33: =Manning!J39 -> L3 | K33: =Manning!K39 -> 0 | L33: =Manning!L39 -> 0 | M33: =Manning!M39 -> 0 | N33: =Manning!N39 -> 0 | O33: =Manning!O39 -> 0 | P33: =Manning!P39 -> 0 | Q33: =Manning!Q39 -> 0 | R33: =Manning!R39 -> 0 | ... U33: =Manning!U39 -> 1 | V33: =Manning!W39 -> 1 | X33: =K33*'Salary Level'!$M39 -> 0 | Y33: =L33*'Salary Level'!$M39 -> 0 | Z33: =M33*'Salary Level'!$M39 -> 0 | AA33: =N33*'Salary Level'!$M39 -> 0 | AB33: =O33*'Salary Level'!$M39 -> 0 | AC33: =P33*'Salary Level'!$M39 -> 0 | AD33: =Q33*'Salary Level'!$M39 -> 0 | AE33: =R33*'Salary Level'!$M39 -> 0 | ... AI33: =V33*'Salary Level'!$M39 -> 17040 | AJ33: =V33*'Salary Level'!$M39 -> 17040 | AK33: =SUM(X33:AJ33) -> 85200
E34: =Manning!E40 -> ASSISTANT F/O MANAGER | F34: =Manning!F40 -> 0 | G34: =Manning!H40 -> 1 | H34: =Manning!I40 -> L | I34: =Manning!J40 -> L4 | K34: =Manning!K40 -> 0 | L34: =Manning!L40 -> 0 | M34: =Manning!M40 -> 0 | N34: =Manning!N40 -> 0 | O34: =Manning!O40 -> 0 | P34: =Manning!P40 -> 0 | Q34: =Manning!Q40 -> 0 | R34: =Manning!R40 -> 0 | ... U34: =Manning!U40 -> 1 | V34: =Manning!W40 -> 1 | X34: =K34*'Salary Level'!$M40 -> 0 | Y34: =L34*'Salary Level'!$M40 -> 0 | Z34: =M34*'Salary Level'!$M40 -> 0 | AA34: =N34*'Salary Level'!$M40 -> 0 | AB34: =O34*'Salary Level'!$M40 -> 0 | AC34: =P34*'Salary Level'!$M40 -> 0 | AD34: =Q34*'Salary Level'!$M40 -> 0 | AE34: =R34*'Salary Level'!$M40 -> 0 | ... AI34: =V34*'Salary Level'!$M40 -> 9940 | AJ34: =V34*'Salary Level'!$M40 -> 9940 | AK34: =SUM(X34:AJ34) -> 39760
E35: =Manning!E531 -> REVENUE MANAGER | F35: =Manning!F531 -> 0 | G35: =Manning!H531 -> 1 | H35: =Manning!I531 -> L | I35: =Manning!J531 -> L4 | K35: =Manning!K531 -> 0 | L35: =Manning!L531 -> 0 | M35: =Manning!M531 -> 0 | N35: =Manning!N531 -> 0 | O35: =Manning!O531 -> 0 | P35: =Manning!P531 -> 0 | Q35: =Manning!Q531 -> 0 | R35: =Manning!R531 -> 0 | ... U35: =Manning!U531 -> 1 | V35: =Manning!W531 -> 1 | X35: =K35*'Salary Level'!$M531 -> 0 | Y35: =L35*'Salary Level'!$M531 -> 0 | Z35: =M35*'Salary Level'!$M531 -> 0 | AA35: =N35*'Salary Level'!$M531 -> 0 | AB35: =O35*'Salary Level'!$M531 -> 0 | AC35: =P35*'Salary Level'!$M531 -> 0 | AD35: =Q35*'Salary Level'!$M531 -> 0 | AE35: =R35*'Salary Level'!$M531 -> 0 | ... AH35: =U35*'Salary Level'!$M531 -> 9940 | AI35: =V35*'Salary Level'!$M41 -> 7100 | AJ35: =V35*'Salary Level'!$M531 -> 9940 | AK35: =SUM(X35:AJ35) -> 26980
E36: =Manning!E41 -> GUEST SERVICES MANAGER / NIGHT MANAGER | F36: =Manning!F41 -> 0 | G36: =Manning!H41 -> 1 | H36: =Manning!I41 -> L | I36: =Manning!J41 -> L4 | K36: =Manning!K41 -> 0 | L36: =Manning!L41 -> 0 | M36: =Manning!M41 -> 0 | N36: =Manning!N41 -> 0 | O36: =Manning!O41 -> 0 | P36: =Manning!P41 -> 0 | Q36: =Manning!Q41 -> 0 | R36: =Manning!R41 -> 0 | ... U36: =Manning!U41 -> 0 | V36: =Manning!W41 -> 1 | X36: =K36*'Salary Level'!$M41 -> 0 | Y36: =L36*'Salary Level'!$M41 -> 0 | Z36: =M36*'Salary Level'!$M41 -> 0 | AA36: =N36*'Salary Level'!$M41 -> 0 | AB36: =O36*'Salary Level'!$M41 -> 0 | AC36: =P36*'Salary Level'!$M41 -> 0 | AD36: =Q36*'Salary Level'!$M41 -> 0 | AE36: =R36*'Salary Level'!$M41 -> 0 | ... AH36: =U36*'Salary Level'!$M41 -> 0 | AI36: =V36*'Salary Level'!$M42 -> 7100 | AJ36: =V36*'Salary Level'!$M41 -> 7100 | AK36: =SUM(X36:AJ36) -> 14200
E37: =Manning!E42 -> GUEST RELATIONS MANAGER | F37: =Manning!F42 -> 0 | G37: =Manning!H42 -> 1 | H37: =Manning!I42 -> L | I37: =Manning!J42 -> L6 | K37: =Manning!K42 -> 0 | L37: =Manning!L42 -> 0 | M37: =Manning!M42 -> 0 | N37: =Manning!N42 -> 0 | O37: =Manning!O42 -> 0 | P37: =Manning!P42 -> 0 | Q37: =Manning!Q42 -> 0 | R37: =Manning!R42 -> 0 | ... U37: =Manning!U42 -> 0 | V37: =Manning!W42 -> 1 | X37: =K37*'Salary Level'!$M42 -> 0 | Y37: =L37*'Salary Level'!$M42 -> 0 | Z37: =M37*'Salary Level'!$M42 -> 0 | AA37: =N37*'Salary Level'!$M42 -> 0 | AB37: =O37*'Salary Level'!$M42 -> 0 | AC37: =P37*'Salary Level'!$M42 -> 0 | AD37: =Q37*'Salary Level'!$M42 -> 0 | AE37: =R37*'Salary Level'!$M42 -> 0 | ... AH37: =U37*'Salary Level'!$M42 -> 0 | AI37: =V37*'Salary Level'!$M43 -> 4260 | AJ37: =V37*'Salary Level'!$M42 -> 7100 | AK37: =SUM(X37:AJ37) -> 11360
E38: =Manning!E43 -> GUEST RELATION OFFICER | F38: =Manning!F43 -> 0 | G38: =Manning!H43 -> 1 | H38: =Manning!I43 -> L | I38: =Manning!J43 -> L7 | K38: =Manning!K43 -> 0 | L38: =Manning!L43 -> 0 | M38: =Manning!M43 -> 0 | N38: =Manning!N43 -> 0 | O38: =Manning!O43 -> 0 | P38: =Manning!P43 -> 0 | Q38: =Manning!Q43 -> 0 | R38: =Manning!R43 -> 0 | ... U38: =Manning!U43 -> 0 | V38: =Manning!W43 -> 1 | X38: =K38*'Salary Level'!$M43 -> 0 | Y38: =L38*'Salary Level'!$M43 -> 0 | Z38: =M38*'Salary Level'!$M43 -> 0 | AA38: =N38*'Salary Level'!$M43 -> 0 | AB38: =O38*'Salary Level'!$M43 -> 0 | AC38: =P38*'Salary Level'!$M43 -> 0 | AD38: =Q38*'Salary Level'!$M43 -> 0 | AE38: =R38*'Salary Level'!$M43 -> 0 | ... AH38: =U38*'Salary Level'!$M43 -> 0 | AI38: =V38*'Salary Level'!$M44 -> 5680 | AJ38: =V38*'Salary Level'!$M43 -> 4260 | AK38: =SUM(X38:AJ38) -> 9940
E39: =Manning!E44 -> FRONT OFFICE SUPERVISOR | F39: =Manning!F44 -> 0 | G39: 0 | H39: =Manning!I44 -> L | I39: =Manning!J44 -> L5 | K39: =Manning!K44 -> 0 | L39: =Manning!L44 -> 0 | M39: =Manning!M44 -> 0 | N39: =Manning!N44 -> 0 | O39: =Manning!O44 -> 0 | P39: =Manning!P44 -> 0 | Q39: =Manning!Q44 -> 0 | R39: =Manning!R44 -> 0 | ... U39: =Manning!U44 -> 0 | V39: =Manning!W44 -> 2 | X39: =K39*'Salary Level'!$M44 -> 0 | Y39: =L39*'Salary Level'!$M44 -> 0 | Z39: =M39*'Salary Level'!$M44 -> 0 | AA39: =N39*'Salary Level'!$M44 -> 0 | AB39: =O39*'Salary Level'!$M44 -> 0 | AC39: =P39*'Salary Level'!$M44 -> 0 | AD39: =Q39*'Salary Level'!$M44 -> 0 | AE39: =R39*'Salary Level'!$M44 -> 0 | ... AH39: =U39*'Salary Level'!$M44 -> 0 | AI39: =V39*'Salary Level'!$M45 -> 8520 | AJ39: =V39*'Salary Level'!$M44 -> 11360 | AK39: =SUM(X39:AJ39) -> 19880
E40: =Manning!E45 -> RECEPTIONIST | F40: =Manning!F45 -> 0 | G40: =Manning!H45 -> 6 | H40: =Manning!I45 -> L | I40: =Manning!J45 -> L7 | K40: =Manning!K45 -> 0 | L40: =Manning!L45 -> 0 | M40: =Manning!M45 -> 0 | N40: =Manning!N45 -> 0 | O40: =Manning!O45 -> 0 | P40: =Manning!P45 -> 0 | Q40: =Manning!Q45 -> 0 | R40: =Manning!R45 -> 0 | ... U40: =Manning!U45 -> 0 | V40: =Manning!W45 -> 6 | X40: =K40*'Salary Level'!$M45 -> 0 | Y40: =L40*'Salary Level'!$M45 -> 0 | Z40: =M40*'Salary Level'!$M45 -> 0 | AA40: =N40*'Salary Level'!$M45 -> 0 | AB40: =O40*'Salary Level'!$M45 -> 0 | AC40: =P40*'Salary Level'!$M45 -> 0 | AD40: =Q40*'Salary Level'!$M45 -> 0 | AE40: =R40*'Salary Level'!$M45 -> 0 | ... AH40: =U40*'Salary Level'!$M45 -> 0 | AI40: =V40*'Salary Level'!$M46 -> 0 | AJ40: =V40*'Salary Level'!$M45 -> 25560 | AK40: =SUM(X40:AJ40) -> 25560
E41: =Manning!E46 -> ADDITIONAL POSITION 1 | G41: =Manning!H46 -> 0 | H41: =Manning!I46 -> L | I41: =Manning!J46 -> 0 | K41: =Manning!K46 -> 0 | L41: =Manning!L46 -> 0 | M41: =Manning!M46 -> 0 | N41: =Manning!N46 -> 0 | O41: =Manning!O46 -> 0 | P41: =Manning!P46 -> 0 | Q41: =Manning!Q46 -> 0 | R41: =Manning!R46 -> 0 | ... U41: =Manning!U46 -> 0 | V41: =Manning!W46 -> 0 | X41: =K41*'Salary Level'!$M46 -> 0 | Y41: =L41*'Salary Level'!$M46 -> 0 | Z41: =M41*'Salary Level'!$M46 -> 0 | AA41: =N41*'Salary Level'!$M46 -> 0 | AB41: =O41*'Salary Level'!$M46 -> 0 | AC41: =P41*'Salary Level'!$M46 -> 0 | AD41: =Q41*'Salary Level'!$M46 -> 0 | AE41: =R41*'Salary Level'!$M46 -> 0 | ... AH41: =U41*'Salary Level'!$M46 -> 0 | AI41: =V41*'Salary Level'!$M47 -> 0 | AJ41: =V41*'Salary Level'!$M46 -> 0 | AK41: =SUM(X41:AJ41) -> 0
